BEGIN:VCALENDAR
VERSION:2.0
PRODID:-//Palmetto Amateur Radio Club - ECPv6.15.20//NONSGML v1.0//EN
CALSCALE:GREGORIAN
METHOD:PUBLISH
X-ORIGINAL-URL:https://palmettoarc.org
X-WR-CALDESC:Events for Palmetto Amateur Radio Club
REFRESH-INTERVAL;VALUE=DURATION:PT1H
X-Robots-Tag:noindex
X-PUBLISHED-TTL:PT1H
BEGIN:VTIMEZONE
TZID:America/New_York
BEGIN:DAYLIGHT
TZOFFSETFROM:-0500
TZOFFSETTO:-0400
TZNAME:EDT
DTSTART:20240310T070000
END:DAYLIGHT
BEGIN:STANDARD
TZOFFSETFROM:-0400
TZOFFSETTO:-0500
TZNAME:EST
DTSTART:20241103T060000
END:STANDARD
BEGIN:DAYLIGHT
TZOFFSETFROM:-0500
TZOFFSETTO:-0400
TZNAME:EDT
DTSTART:20250309T070000
END:DAYLIGHT
BEGIN:STANDARD
TZOFFSETFROM:-0400
TZOFFSETTO:-0500
TZNAME:EST
DTSTART:20251102T060000
END:STANDARD
BEGIN:DAYLIGHT
TZOFFSETFROM:-0500
TZOFFSETTO:-0400
TZNAME:EDT
DTSTART:20260308T070000
END:DAYLIGHT
BEGIN:STANDARD
TZOFFSETFROM:-0400
TZOFFSETTO:-0500
TZNAME:EST
DTSTART:20261101T060000
END:STANDARD
END:VTIMEZONE
BEGIN:VEVENT
DTSTART;TZID=America/New_York:20251207T140000
DTEND;TZID=America/New_York:20251207T160000
DTSTAMP:20260422T183522
CREATED:20251120T185630Z
LAST-MODIFIED:20251120T185720Z
UID:2904-1765116000-1765123200@palmettoarc.org
SUMMARY:PARC Holiday Party
DESCRIPTION:Palmetto Amateur Radio Club invites all members and non-members to our 2025 Holiday Party.  The event will be held at BJ’s Brewhouse in Pembroke Pines beginning at 2pm EST.  See below for more information. \nWe plan to have a few fun activities including a slide show of the years past events\, a raffle for two HT Radios and an opportunity to share your best memory of the year.  Everyone is welcome to attend including family and friends.  There is no fee to attend\, however\, you will be responsible for your own food and drink orders.   \nPlease RSVP as instructed to ensure we have you counted and can make space as needed. \n’73\nPARC Board of Directors
URL:https://palmettoarc.org/event/parc-holiday-party/
LOCATION:FL
END:VEVENT
BEGIN:VEVENT
DTSTART;TZID=America/New_York:20251213T080000
DTEND;TZID=America/New_York:20251213T150000
DTSTAMP:20260422T183522
CREATED:20251117T174916Z
LAST-MODIFIED:20251117T180629Z
UID:2888-1765612800-1765638000@palmettoarc.org
SUMMARY:The 50th Annual Tampa Bay Hamfest
DESCRIPTION:This year’s Tampa Bay Hamfest will again be held at the Strawberry Festival facilities in Plant City\, Florida. The Hamfest will open to the public at 1 PM on Friday\, December 12th\, 2025\, closing at 6 PM\, and will run through Saturday\, December 13th\, 2025\, opening at 8 AM and closing at 3 PM. Please see the event details under the ‘Venues and Hours’ and the ‘Testing\, Forums\, etc.’ pages under the menu. \nThe Tampa Bay Hamfest will be the West Central Florida Section Convention of the ARRL\, American Radio Relay League. ARRL will have a location and will have representatives available to answer any questions you may have. \nExhibits and commercial vendors will be located in the Expo Hall. The general public parking and the only entrance is at the intersection of Berryfest Place (was Lemon St.) and West Palmetto Avenue. The Tailgate area (see below) will be the large grassy field adjacent to the Carriage House. \nSet your GPS to N28.01563 and -82.14407 to locate the facility’s entrance on Berryfest Place and W. Palmetto Ave. in Plant City. The ticket booth is just past the public parking.
URL:https://palmettoarc.org/event/the-50th-annual-tampa-bay-hamfest/
LOCATION:Strawberry Festival facilities\, 301 Berryfest (was N Lemon)\, Plant City\, FL\, 33564\, United States
END:VEVENT
END:VCALENDAR