BEGIN:VCALENDAR
VERSION:2.0
PRODID:-//Palmetto Amateur Radio Club - ECPv6.15.20//NONSGML v1.0//EN
CALSCALE:GREGORIAN
METHOD:PUBLISH
X-WR-CALNAME:Palmetto Amateur Radio Club
X-ORIGINAL-URL:https://palmettoarc.org
X-WR-CALDESC:Events for Palmetto Amateur Radio Club
REFRESH-INTERVAL;VALUE=DURATION:PT1H
X-Robots-Tag:noindex
X-PUBLISHED-TTL:PT1H
BEGIN:VTIMEZONE
TZID:America/New_York
BEGIN:DAYLIGHT
TZOFFSETFROM:-0500
TZOFFSETTO:-0400
TZNAME:EDT
DTSTART:20250309T070000
END:DAYLIGHT
BEGIN:STANDARD
TZOFFSETFROM:-0400
TZOFFSETTO:-0500
TZNAME:EST
DTSTART:20251102T060000
END:STANDARD
BEGIN:DAYLIGHT
TZOFFSETFROM:-0500
TZOFFSETTO:-0400
TZNAME:EDT
DTSTART:20260308T070000
END:DAYLIGHT
BEGIN:STANDARD
TZOFFSETFROM:-0400
TZOFFSETTO:-0500
TZNAME:EST
DTSTART:20261101T060000
END:STANDARD
BEGIN:DAYLIGHT
TZOFFSETFROM:-0500
TZOFFSETTO:-0400
TZNAME:EDT
DTSTART:20270314T070000
END:DAYLIGHT
BEGIN:STANDARD
TZOFFSETFROM:-0400
TZOFFSETTO:-0500
TZNAME:EST
DTSTART:20271107T060000
END:STANDARD
END:VTIMEZONE
BEGIN:VEVENT
DTSTART;VALUE=DATE:20260213
DTEND;VALUE=DATE:20260216
DTSTAMP:20260422T151543
CREATED:20260119T033525Z
LAST-MODIFIED:20260119T034752Z
UID:3138-1770940800-1771199999@palmettoarc.org
SUMMARY:APRS Day Out 2026
DESCRIPTION:APRS Day Out 2026\n  \nSponsored by Daytona Beach Amateur Radio Association\n\nWhen: February 13-15 2026\nWhere: Hamcation – Orlando\, FL\nFrequency 147.585\nAPRS Path TEMP1-1\nMore Info\n\nThe Daytona Beach Amateur Radio Association is putting an APRS “Day Out” digipeater on the air to cover the fairgrounds during Hamcation 2026. We hope that you will join the event network by tuning your APRS radio to 147.585 and using the path of TEMP1-1. \nWhat should you do?\n\nJoin the Network! (See radio configuration below)\nSend out a CQ message (Group message) and say hello\nShare Hamcation-related information through APRS bulletins\nMonitor your radio’s APRS messages for incoming information\n\nHow to configure your radio\n\nConfigure your Yaesu FT5\nConfigure your Kenwood D74/75\n\nAPRS Day Out is the brainchild of Bob Bruninga\, WB4APR/sk. In his words\, “The purpose of the APRS Day out is to test our skills at forming ad-hoc networks in ham radio for use at events and disasters. APRS is ideal for coordination communications among portable VHF and UHF stations and roving vehicles. Of course\, stations and rovers have nearly perfect connectivity using the existing national APRS network on the established national channel of 144.39. But this channel is usually overloaded with other stations\, vulnerable to power and internet outages\, and it is hard to see who is involved in the event among the other thousands of permanent users there. To see only the other stations in the event\, stations can use APRS on the national HamIM channel of 147.585 as a temporary ad-hoc APRS channel. The only stations on that frequency will be other real-time participants.” \nReference: http://www.aprs.org/APRS-day-out.html \nThanks to N2EDX & KA4UPW for maintaining the day out digipeater during Hamcation.
URL:https://palmettoarc.org/event/aprs-day-out-2026/
LOCATION:Hamcation in Orlando\, 3208 E. Colonial Dr PMB 168\, Orlando\, FL\, 32803\, United States
ATTACH;FMTTYPE=image/gif:https://palmettoarc.org/wp-content/uploads/2026/01/aprs-e1768794341606.gif
END:VEVENT
BEGIN:VEVENT
DTSTART;TZID=America/New_York:20260214T100000
DTEND;TZID=America/New_York:20260214T123000
DTSTAMP:20260422T151543
CREATED:20251220T031338Z
LAST-MODIFIED:20260106T020654Z
UID:3051-1771063200-1771072200@palmettoarc.org
SUMMARY:Exam Session - (Hamcation) - No Testing
DESCRIPTION:To register\, click here. \n  \nWe want to thank you for taking your Exam with the Palmetto Amateur Radio Club\, and we wish you good luck.  What will you have to bring on the day of your exam? \nState Issued Photo ID \nYour FRN – to request an FRN\, click here. \nIf you already have a HAM radio license\, bring an official copy of your license. To download your official copy\, click here and follow the instructions.
URL:https://palmettoarc.org/event/ham-exam-session-feburary/
LOCATION:Community Church of Davie\, 6500 SW 47th St\, Davie\, FL\, 33314\, United States
CATEGORIES:Test Session
ATTACH;FMTTYPE=image/jpeg:https://palmettoarc.org/wp-content/uploads/2023/10/PARC_Text_Session_800x450.jpg
ORGANIZER;CN="Palmetto Amateur Radio Club":MAILTO:info@palmettoarc.org
END:VEVENT
BEGIN:VEVENT
DTSTART;TZID=America/New_York:20260221T080000
DTEND;TZID=America/New_York:20260221T130000
DTSTAMP:20260422T151543
CREATED:20250602T224715Z
LAST-MODIFIED:20260129T024541Z
UID:1580-1771660800-1771678800@palmettoarc.org
SUMMARY:PARCHoppers - Tree Tops Park\, Davie
DESCRIPTION:As always\, registration for the event is optional\, but if you know you are attending\, please let us know so we can plan accordingly. If we have five registrations or more\, we will prepare for a BBQ. Anything less\, we will show up\, but without a BBQ. \nAlso\, since it is starting to get warmer\, we are not having any classes during the summer. Instead\, we are going to have presentations during our regular Club meetings on Zoom. \nIf you register\, please let us know if you want to contribute to the BBQ and what you will bring. However\, remember that there will be no BBQ if we don’t get five or more registrations. The deadline for the five registrations is Thursday\, February 19\, 2026. We will post here and on groups.io if we have enough registrations for the BBQ. \nIf you have any questions\, don’t hesitate to contact us through our contact page. Click here. \nWhen you arrive at the park\, you can reach out to us on our DMR TG (click here for more information) or on 146.5200 MHz \n\n\n                \n                        \n                             \n                         \n \n                        RegistrationIf we have 5+ registrations we will plan for a BBQName(Required)\n                            \n                            \n                                                    First\n                                                    \n                                                \n                            \n                            \n                                                            Last\n                                                            \n                                                        \n                            \n                        Email(Required)\n                                \n                                    Enter Email\n                                    \n                                \n                                \n                                    Confirm Email\n                                    \n                                \n                                \n                            PhoneCall SignThis field is hidden when viewing the formPresentation / Class I am interested in the DMR class. Please count me inHow did you hear about this event?Please Select ...Social MediaGoogleWord of MouthRefer a FriendPast ParticipantOtherComment / BBQ ContributionPlease enter your comments here and if you would like to contribute something to the BBQ\, let us know what you will bring. Thank you.\n          \n            \n            \n            \n            \n            \n            \n            \n            \n            \n            \n            \n            \n            \n        \n                        \n                        \n\n 
URL:https://palmettoarc.org/event/parc-hoppers-field-day-feburary/
LOCATION:Tree Tops Park\, 3900 SW 100th Ave\, Davie\, FL\, 33328-1705\, United States
CATEGORIES:Field Day
ATTACH;FMTTYPE=image/png:https://palmettoarc.org/wp-content/uploads/2023/05/TreeTopsPark_Location.png
ORGANIZER;CN="Palmetto Amateur Radio Club":MAILTO:info@palmettoarc.org
END:VEVENT
BEGIN:VEVENT
DTSTART;TZID=America/New_York:20260224T193000
DTEND;TZID=America/New_York:20260224T203000
DTSTAMP:20260422T151543
CREATED:20251220T021603Z
LAST-MODIFIED:20260223T164317Z
UID:3003-1771961400-1771965000@palmettoarc.org
SUMMARY:General PARC Club Meeting
DESCRIPTION:Topic: Palmetto ARC Club Meeting\nTime:  Feb 24\, 2026\, 19:30 EST (US and Canada) \nJoin Zoom Meeting \nhttps://us06web.zoom.us/j/6419064395?omn=86342796397 \nIf you do not have Zoom installed on your computer\, just click on the “Join from your Browser” button. \nThere is no password required to join.  You will be automatically placed into the waiting room and admitted once the meeting begins. \n  \n 
URL:https://palmettoarc.org/event/parc-general-club-meeting/
LOCATION:ZOOM\, United States
CATEGORIES:Meeting
ATTACH;FMTTYPE=image/jpeg:https://palmettoarc.org/wp-content/uploads/2023/05/AdobeStock_182830463-scaled.jpeg
ORGANIZER;CN="Palmetto Amateur Radio Club":MAILTO:info@palmettoarc.org
END:VEVENT
END:VCALENDAR