BEGIN:VCALENDAR
VERSION:2.0
PRODID:-//Palmetto Amateur Radio Club - ECPv6.15.20//NONSGML v1.0//EN
CALSCALE:GREGORIAN
METHOD:PUBLISH
X-WR-CALNAME:Palmetto Amateur Radio Club
X-ORIGINAL-URL:https://palmettoarc.org
X-WR-CALDESC:Events for Palmetto Amateur Radio Club
REFRESH-INTERVAL;VALUE=DURATION:PT1H
X-Robots-Tag:noindex
X-PUBLISHED-TTL:PT1H
BEGIN:VTIMEZONE
TZID:America/New_York
BEGIN:DAYLIGHT
TZOFFSETFROM:-0500
TZOFFSETTO:-0400
TZNAME:EDT
DTSTART:20250309T070000
END:DAYLIGHT
BEGIN:STANDARD
TZOFFSETFROM:-0400
TZOFFSETTO:-0500
TZNAME:EST
DTSTART:20251102T060000
END:STANDARD
BEGIN:DAYLIGHT
TZOFFSETFROM:-0500
TZOFFSETTO:-0400
TZNAME:EDT
DTSTART:20260308T070000
END:DAYLIGHT
BEGIN:STANDARD
TZOFFSETFROM:-0400
TZOFFSETTO:-0500
TZNAME:EST
DTSTART:20261101T060000
END:STANDARD
BEGIN:DAYLIGHT
TZOFFSETFROM:-0500
TZOFFSETTO:-0400
TZNAME:EDT
DTSTART:20270314T070000
END:DAYLIGHT
BEGIN:STANDARD
TZOFFSETFROM:-0400
TZOFFSETTO:-0500
TZNAME:EST
DTSTART:20271107T060000
END:STANDARD
END:VTIMEZONE
BEGIN:VEVENT
DTSTART;TZID=America/New_York:20260314T100000
DTEND;TZID=America/New_York:20260314T123000
DTSTAMP:20260422T133819
CREATED:20251220T015419Z
LAST-MODIFIED:20251220T020229Z
UID:2989-1773482400-1773491400@palmettoarc.org
SUMMARY:HAM Exam Session - March
DESCRIPTION:To register\, click here. \n  \nwe want to thank you for taking your Exam with the Palmetto Amateur Radio Club\, and we wish you good luck. \nWhat you will have to bring on the day of your exam. \n\nState Issued Photo ID\nYour FRN – to request an FRN\, click here.\nIf you already have a HAM radio license\, bring an official copy of your license. To download your official copy\, click here and follow the instructions.
URL:https://palmettoarc.org/event/ham-exam-session-march-2026/
LOCATION:Community Church of Davie\, 6500 SW 47th St\, Davie\, FL\, 33314\, United States
CATEGORIES:Test Session
ATTACH;FMTTYPE=image/jpeg:https://palmettoarc.org/wp-content/uploads/2023/10/PARC_Text_Session_800x450.jpg
ORGANIZER;CN="Palmetto Amateur Radio Club":MAILTO:info@palmettoarc.org
END:VEVENT
BEGIN:VEVENT
DTSTART;TZID=America/New_York:20260321T080000
DTEND;TZID=America/New_York:20260321T140000
DTSTAMP:20260422T133819
CREATED:20251220T025039Z
LAST-MODIFIED:20260316T015638Z
UID:3032-1774080000-1774101600@palmettoarc.org
SUMMARY:PARC Hoppers Field Day - CANCELLED
DESCRIPTION:As always\, registration for the event is optional\, but if you know you are attending\, please let us know so we can plan accordingly. If we have five registrations or more\, we will prepare for a BBQ. Anything less\, we will show up\, but without a BBQ. \nAlso\, since it is starting to get warmer\, we are not having any classes during the summer. Instead\, we are going to have presentations during our regular Club meetings on Zoom. \nIf you register\, please let us know if you want to contribute to the BBQ and what you will bring. However\, remember that there will be no BBQ if we don’t get five or more registrations. The deadline for the five registrations is Wednesday\, March 18\, 2026. We will post here and on groups.io if we have enough registrations for the BBQ. \nIf you have any questions\, don’t hesitate to contact us through our contact page. Click here. \nWhen you arrive at the park\, you can reach out to us on our DMR TG (click here for more information) or on 146.5200 MHz \n\n\n                \n                        \n                             \n                         \n \n                        RegistrationIf we have 5+ registrations we will plan for a BBQName(Required)\n                            \n                            \n                                                    First\n                                                    \n                                                \n                            \n                            \n                                                            Last\n                                                            \n                                                        \n                            \n                        Email(Required)\n                                \n                                    Enter Email\n                                    \n                                \n                                \n                                    Confirm Email\n                                    \n                                \n                                \n                            PhoneCall SignThis field is hidden when viewing the formPresentation / Class I am interested in the DMR class. Please count me inHow did you hear about this event?Please Select ...Social MediaGoogleWord of MouthRefer a FriendPast ParticipantOtherComment / BBQ ContributionPlease enter your comments here and if you would like to contribute something to the BBQ\, let us know what you will bring. Thank you.\n          \n            \n            \n            \n            \n            \n            \n            \n            \n            \n            \n            \n            \n            \n        \n                        \n                        \n\n 
URL:https://palmettoarc.org/event/parc-hoppers-field-day-cancelled/
LOCATION:Quiet Waters Park\, 401 S Powerline Rd\, Deerfield Beach\, 33442\, United States
CATEGORIES:Field Day
ATTACH;FMTTYPE=image/jpeg:https://palmettoarc.org/wp-content/uploads/2024/04/20240427_PARC_QuietWatersPark.jpg
ORGANIZER;CN="Palmetto Amateur Radio Club":MAILTO:info@palmettoarc.org
END:VEVENT
BEGIN:VEVENT
DTSTART;TZID=America/New_York:20260321T080000
DTEND;TZID=America/New_York:20260321T140000
DTSTAMP:20260422T133819
CREATED:20260316T015312Z
LAST-MODIFIED:20260316T015410Z
UID:3300-1774080000-1774101600@palmettoarc.org
SUMMARY:Stuart Hamfest 2026
DESCRIPTION:The Martin County Amateur Radio Association\, in cooperation with the Martin County ARES/RACES organization\, will present the 51st Annual Stuart Hamfest on March 21st\, 2026\, at the Martin County Fairgrounds in Stuart\, Florida.  General Admission and parking are FREE! \nThe Stuart Hamfest operates from 8 AM to 2 PM on Saturday.  Gates will open for setup at 7 AM.  Tailgating is $5 and will be available on a first-come\, first-served basis\, beginning at 7 AM on Saturday.  \nMartin County Fairgrounds\n2616 SE Dixie Highway (A1A)\nStuart\, FL  34996 \nTalk-in on WX4MC at 145.150 MHz\, -600 KHz offset\, 107.2 Hz PL tone
URL:https://palmettoarc.org/event/stuart-hamfest-2026/
LOCATION:Stuart Hamfest\, 2616 SE Dixie Highway (A1A)\, Stuart\, FL\, 34996\, United States
CATEGORIES:Social Event
ATTACH;FMTTYPE=image/jpeg:https://palmettoarc.org/wp-content/uploads/2026/03/StuartHamfestBanner.jpg
END:VEVENT
BEGIN:VEVENT
DTSTART;TZID=America/New_York:20260325T200000
DTEND;TZID=America/New_York:20260325T213000
DTSTAMP:20260422T133819
CREATED:20251220T021726Z
LAST-MODIFIED:20260323T213203Z
UID:3005-1774468800-1774474200@palmettoarc.org
SUMMARY:General PARC Club Meeting
DESCRIPTION:Topic: Palmetto ARC Club Meeting\nTime:  March 25\, 2026\, 20:00 EST (US and Canada) \nPlease download and import the following iCalendar (.ics) files to your calendar system.\nMonthly: https://us02web.zoom.us/meeting/tZwvd-quqj4iGdzqeSYAkuyUICRBg1ldv0y6/ics?icsToken=98tyKuGgrDspHNCQuBqPRpw-AIigb-7wiCVHjadHjRrWOgFYdxrDH8FwELUuHNzG \nJoin Zoom Meeting\nhttps://us02web.zoom.us/j/88203645838?pwd=RzNxM3B0d0ZnZDBVZFUwNHhBWVlSUT09 \nMeeting ID: 882 0364 5838\nPasscode: 9gfrG5 \n— \nOne tap mobile\n+13052241968\,\,88203645838#\,\,\,\,*978353# US\n+13126266799\,\,88203645838#\,\,\,\,*978353# US (Chicago) \n— \nDial by your location\n• +1 305 224 1968 US\n• +1 312 626 6799 US (Chicago)\n• +1 646 558 8656 US (New York)\n• +1 646 931 3860 US\n• +1 301 715 8592 US (Washington DC)\n• +1 309 205 3325 US\n• +1 253 205 0468 US\n• +1 253 215 8782 US (Tacoma)\n• +1 346 248 7799 US (Houston)\n• +1 360 209 5623 US\n• +1 386 347 5053 US\n• +1 507 473 4847 US\n• +1 564 217 2000 US\n• +1 669 444 9171 US\n• +1 669 900 9128 US (San Jose)\n• +1 689 278 1000 US\n• +1 719 359 4580 US \nMeeting ID: 882 0364 5838\nPasscode: 978353
URL:https://palmettoarc.org/event/parc-general-club-meeting-2026/
LOCATION:ZOOM\, United States
CATEGORIES:Meeting
ATTACH;FMTTYPE=image/jpeg:https://palmettoarc.org/wp-content/uploads/2023/05/AdobeStock_182830463-scaled.jpeg
ORGANIZER;CN="Palmetto Amateur Radio Club":MAILTO:info@palmettoarc.org
END:VEVENT
END:VCALENDAR