BEGIN:VCALENDAR
VERSION:2.0
PRODID:-//Palmetto Amateur Radio Club - ECPv6.15.20//NONSGML v1.0//EN
CALSCALE:GREGORIAN
METHOD:PUBLISH
X-WR-CALNAME:Palmetto Amateur Radio Club
X-ORIGINAL-URL:https://palmettoarc.org
X-WR-CALDESC:Events for Palmetto Amateur Radio Club
REFRESH-INTERVAL;VALUE=DURATION:PT1H
X-Robots-Tag:noindex
X-PUBLISHED-TTL:PT1H
BEGIN:VTIMEZONE
TZID:America/New_York
BEGIN:DAYLIGHT
TZOFFSETFROM:-0500
TZOFFSETTO:-0400
TZNAME:EDT
DTSTART:20250309T070000
END:DAYLIGHT
BEGIN:STANDARD
TZOFFSETFROM:-0400
TZOFFSETTO:-0500
TZNAME:EST
DTSTART:20251102T060000
END:STANDARD
BEGIN:DAYLIGHT
TZOFFSETFROM:-0500
TZOFFSETTO:-0400
TZNAME:EDT
DTSTART:20260308T070000
END:DAYLIGHT
BEGIN:STANDARD
TZOFFSETFROM:-0400
TZOFFSETTO:-0500
TZNAME:EST
DTSTART:20261101T060000
END:STANDARD
BEGIN:DAYLIGHT
TZOFFSETFROM:-0500
TZOFFSETTO:-0400
TZNAME:EDT
DTSTART:20270314T070000
END:DAYLIGHT
BEGIN:STANDARD
TZOFFSETFROM:-0400
TZOFFSETTO:-0500
TZNAME:EST
DTSTART:20271107T060000
END:STANDARD
END:VTIMEZONE
BEGIN:VEVENT
DTSTART;TZID=America/New_York:20260613T100000
DTEND;TZID=America/New_York:20260613T123000
DTSTAMP:20260422T151543
CREATED:20241218T224123Z
LAST-MODIFIED:20251220T020352Z
UID:1408-1781344800-1781353800@palmettoarc.org
SUMMARY:HAM Exam Session - June
DESCRIPTION:To register\, click here. \n  \nWe want to thank you for taking your Exam with the Palmetto Amateur Radio Club\, and we wish you good luck. \nWhat you will have to bring on the day of your exam. \n\nState Issued Photo ID\nYour FRN – to request an FRN\, click here.\nIf you already have a HAM radio license\, bring an official copy of your license. To download your official copy\, click here and follow the instructions.
URL:https://palmettoarc.org/event/ham-exam-session-june-2026/
LOCATION:Broward County Library\, 16835 Sheridan Street\, Pembroke Pines\, FL\, 33331\, United States
CATEGORIES:Test Session
ATTACH;FMTTYPE=image/jpeg:https://palmettoarc.org/wp-content/uploads/2023/10/PARC_Text_Session_800x450.jpg
ORGANIZER;CN="Palmetto Amateur Radio Club":MAILTO:info@palmettoarc.org
END:VEVENT
BEGIN:VEVENT
DTSTART;TZID=America/New_York:20260620T083000
DTEND;TZID=America/New_York:20260620T133000
DTSTAMP:20260422T151543
CREATED:20250602T223904Z
LAST-MODIFIED:20251220T030256Z
UID:1564-1781944200-1781962200@palmettoarc.org
SUMMARY:PARC Hoppers Field Day - JUNE - Undecided
DESCRIPTION:Our June Park Hoppers Field Day will be at Markham Park in Sunrise.  \nAs always\, registration for the event is optional\, but if you know you are attending\, please let us know so we can plan accordingly. If we have five registrations or more\, we will prepare for a BBQ. Anything less\, we will show up\, but without a BBQ. \nAlso\, since it is starting to get warmer\, we may not have any classes during the summer. Instead\, we might have some presentations during our regular Club meetings on Zoom. \nIf you register\, please let us know if you want to contribute to the BBQ and what you will bring. However\, remember that there will be no BBQ if we don’t get five or more registrations. The deadline for the five registrations is Wednesday\, June 17\, 2026. We will post here and on groups.io if we have enough registrations for the BBQ. \nIf you have any questions\, don’t hesitate to get in touch with us through our contact page. Click here. \nWhen you arrive at the park\, you can reach out to us on our repeater on 147.3750 MHz \n\n\n                \n                        \n                             \n                         \n \n                        RegistrationIf we have 5+ registrations we will plan for a BBQName(Required)\n                            \n                            \n                                                    First\n                                                    \n                                                \n                            \n                            \n                                                            Last\n                                                            \n                                                        \n                            \n                        Email(Required)\n                                \n                                    Enter Email\n                                    \n                                \n                                \n                                    Confirm Email\n                                    \n                                \n                                \n                            PhoneCall SignThis field is hidden when viewing the formPresentation / Class I am interested in the DMR class. Please count me inHow did you hear about this event?Please Select ...Social MediaGoogleWord of MouthRefer a FriendPast ParticipantOtherComment / BBQ ContributionPlease enter your comments here and if you would like to contribute something to the BBQ\, let us know what you will bring. Thank you.\n          \n            \n            \n            \n            \n            \n            \n            \n            \n            \n            \n            \n            \n            \n        \n                        \n                        \n\n 
URL:https://palmettoarc.org/event/parc-hoppers-field-day-june/
LOCATION:Markham Park\, 16001 W State Road 84\,\, Sunrise\, FL\, 33326-1232\, United States
CATEGORIES:Field Day
ORGANIZER;CN="Palmetto Amateur Radio Club":MAILTO:info@palmettoarc.org
END:VEVENT
BEGIN:VEVENT
DTSTART;TZID=America/New_York:20260623T190000
DTEND;TZID=America/New_York:20260623T203000
DTSTAMP:20260422T151543
CREATED:20241125T235304Z
LAST-MODIFIED:20251220T022622Z
UID:1366-1782241200-1782246600@palmettoarc.org
SUMMARY:General PARC Club Meeting
DESCRIPTION:Topic: Palmetto ARC Club Meeting\nTime:  Jun 23\, 2026\, 19:30 EDT (US and Canada) \nPlease download and import the following iCalendar (.ics) files to your calendar system.\nMonthly: https://us02web.zoom.us/meeting/tZwvd-quqj4iGdzqeSYAkuyUICRBg1ldv0y6/ics?icsToken=98tyKuGgrDspHNCQuBqPRpw-AIigb-7wiCVHjadHjRrWOgFYdxrDH8FwELUuHNzG \nJoin Zoom Meeting\nhttps://us02web.zoom.us/j/88203645838?pwd=RzNxM3B0d0ZnZDBVZFUwNHhBWVlSUT09 \nMeeting ID: 882 0364 5838\nPasscode: 9gfrG5 \n— \nOne tap mobile\n+13052241968\,\,88203645838#\,\,\,\,*978353# US\n+13126266799\,\,88203645838#\,\,\,\,*978353# US (Chicago) \n— \nDial by your location\n• +1 305 224 1968 US\n• +1 312 626 6799 US (Chicago)\n• +1 646 558 8656 US (New York)\n• +1 646 931 3860 US\n• +1 301 715 8592 US (Washington DC)\n• +1 309 205 3325 US\n• +1 253 205 0468 US\n• +1 253 215 8782 US (Tacoma)\n• +1 346 248 7799 US (Houston)\n• +1 360 209 5623 US\n• +1 386 347 5053 US\n• +1 507 473 4847 US\n• +1 564 217 2000 US\n• +1 669 444 9171 US\n• +1 669 900 9128 US (San Jose)\n• +1 689 278 1000 US\n• +1 719 359 4580 US \nMeeting ID: 882 0364 5838\nPasscode: 978353
URL:https://palmettoarc.org/event/june-parc-club-meeting/
LOCATION:ZOOM\, United States
CATEGORIES:Meeting
ATTACH;FMTTYPE=image/jpeg:https://palmettoarc.org/wp-content/uploads/2023/05/AdobeStock_182830463-scaled.jpeg
ORGANIZER;CN="Palmetto Amateur Radio Club":MAILTO:info@palmettoarc.org
END:VEVENT
END:VCALENDAR