BEGIN:VCALENDAR
VERSION:2.0
PRODID:-//Palmetto Amateur Radio Club - ECPv6.15.20//NONSGML v1.0//EN
CALSCALE:GREGORIAN
METHOD:PUBLISH
X-WR-CALNAME:Palmetto Amateur Radio Club
X-ORIGINAL-URL:https://palmettoarc.org
X-WR-CALDESC:Events for Palmetto Amateur Radio Club
REFRESH-INTERVAL;VALUE=DURATION:PT1H
X-Robots-Tag:noindex
X-PUBLISHED-TTL:PT1H
BEGIN:VTIMEZONE
TZID:America/New_York
BEGIN:DAYLIGHT
TZOFFSETFROM:-0500
TZOFFSETTO:-0400
TZNAME:EDT
DTSTART:20250309T070000
END:DAYLIGHT
BEGIN:STANDARD
TZOFFSETFROM:-0400
TZOFFSETTO:-0500
TZNAME:EST
DTSTART:20251102T060000
END:STANDARD
BEGIN:DAYLIGHT
TZOFFSETFROM:-0500
TZOFFSETTO:-0400
TZNAME:EDT
DTSTART:20260308T070000
END:DAYLIGHT
BEGIN:STANDARD
TZOFFSETFROM:-0400
TZOFFSETTO:-0500
TZNAME:EST
DTSTART:20261101T060000
END:STANDARD
BEGIN:DAYLIGHT
TZOFFSETFROM:-0500
TZOFFSETTO:-0400
TZNAME:EDT
DTSTART:20270314T070000
END:DAYLIGHT
BEGIN:STANDARD
TZOFFSETFROM:-0400
TZOFFSETTO:-0500
TZNAME:EST
DTSTART:20271107T060000
END:STANDARD
END:VTIMEZONE
BEGIN:VEVENT
DTSTART;TZID=America/New_York:20261114T100000
DTEND;TZID=America/New_York:20261114T123000
DTSTAMP:20260422T231652
CREATED:20240211T174849Z
LAST-MODIFIED:20251220T024002Z
UID:932-1794650400-1794659400@palmettoarc.org
SUMMARY:HAM Exam Session - November
DESCRIPTION:To register\, click here. \n  \nWe want to thank you for taking your Exam with the Palmetto Amateur Radio Club\, and we wish you good luck. \nWhat you will have to bring on the day of your exam. \n\nState Issued Photo ID\nYour FRN – to request an FRN\, click here.\nIf you already have a HAM radio license\, bring an official copy of your license. To download your official copy\, click here and follow the instructions.
URL:https://palmettoarc.org/event/ham-exam-session-november-2026/
LOCATION:Broward County Library\, 16835 Sheridan Street\, Pembroke Pines\, FL\, 33331\, United States
CATEGORIES:Test Session
ATTACH;FMTTYPE=image/jpeg:https://palmettoarc.org/wp-content/uploads/2023/10/PARC_Text_Session_800x450.jpg
ORGANIZER;CN="Palmetto Amateur Radio Club":MAILTO:info@palmettoarc.org
END:VEVENT
BEGIN:VEVENT
DTSTART;TZID=America/New_York:20261121T080000
DTEND;TZID=America/New_York:20261121T130000
DTSTAMP:20260422T231652
CREATED:20250603T011144Z
LAST-MODIFIED:20251220T030646Z
UID:1601-1795248000-1795266000@palmettoarc.org
SUMMARY:Happy Thanksgiving (No Scheduled PARC Event)
DESCRIPTION:
URL:https://palmettoarc.org/event/happy-thanksgiving-no-parc-event/
LOCATION:FL
CATEGORIES:Field Day
ORGANIZER;CN="Palmetto Amateur Radio Club":MAILTO:info@palmettoarc.org
END:VEVENT
BEGIN:VEVENT
DTSTART;TZID=America/New_York:20261124T193000
DTEND;TZID=America/New_York:20261124T203000
DTSTAMP:20260422T231652
CREATED:20241125T235657Z
LAST-MODIFIED:20260121T023203Z
UID:1376-1795548600-1795552200@palmettoarc.org
SUMMARY:General PARC Meeting (Maybe Cancelled)
DESCRIPTION:The Last General Membership Meeting of the Year\nTopic: Palmetto General Club Meeting\nTime:  Nov 24\, 2026\, 19:30 EDT (US and Canada)
URL:https://palmettoarc.org/event/november-parc-club-meeting-2026/
LOCATION:ZOOM\, United States
CATEGORIES:Meeting
ATTACH;FMTTYPE=image/jpeg:https://palmettoarc.org/wp-content/uploads/2023/05/AdobeStock_182830463-scaled.jpeg
ORGANIZER;CN="Palmetto Amateur Radio Club":MAILTO:info@palmettoarc.org
END:VEVENT
END:VCALENDAR