BEGIN:VCALENDAR
VERSION:2.0
PRODID:-//Palmetto Amateur Radio Club - ECPv6.15.20//NONSGML v1.0//EN
CALSCALE:GREGORIAN
METHOD:PUBLISH
X-ORIGINAL-URL:https://palmettoarc.org
X-WR-CALDESC:Events for Palmetto Amateur Radio Club
REFRESH-INTERVAL;VALUE=DURATION:PT1H
X-Robots-Tag:noindex
X-PUBLISHED-TTL:PT1H
BEGIN:VTIMEZONE
TZID:America/New_York
BEGIN:DAYLIGHT
TZOFFSETFROM:-0500
TZOFFSETTO:-0400
TZNAME:EDT
DTSTART:20250309T070000
END:DAYLIGHT
BEGIN:STANDARD
TZOFFSETFROM:-0400
TZOFFSETTO:-0500
TZNAME:EST
DTSTART:20251102T060000
END:STANDARD
BEGIN:DAYLIGHT
TZOFFSETFROM:-0500
TZOFFSETTO:-0400
TZNAME:EDT
DTSTART:20260308T070000
END:DAYLIGHT
BEGIN:STANDARD
TZOFFSETFROM:-0400
TZOFFSETTO:-0500
TZNAME:EST
DTSTART:20261101T060000
END:STANDARD
BEGIN:DAYLIGHT
TZOFFSETFROM:-0500
TZOFFSETTO:-0400
TZNAME:EDT
DTSTART:20270314T070000
END:DAYLIGHT
BEGIN:STANDARD
TZOFFSETFROM:-0400
TZOFFSETTO:-0500
TZNAME:EST
DTSTART:20271107T060000
END:STANDARD
END:VTIMEZONE
BEGIN:VEVENT
DTSTART;TZID=America/New_York:20260422T200000
DTEND;TZID=America/New_York:20260422T210000
DTSTAMP:20260422T115751
CREATED:20241125T235059Z
LAST-MODIFIED:20260326T015209Z
UID:1362-1776888000-1776891600@palmettoarc.org
SUMMARY:General PARC Club Meeting
DESCRIPTION:Topic: Palmetto ARC Club Meeting\nTime:  Apr 22\, 2026\, 20:00 EDT (US and Canada) \nPlease download and import the following iCalendar (.ics) files to your calendar system.\nMonthly: https://us02web.zoom.us/meeting/tZwvd-quqj4iGdzqeSYAkuyUICRBg1ldv0y6/ics?icsToken=98tyKuGgrDspHNCQuBqPRpw-AIigb-7wiCVHjadHjRrWOgFYdxrDH8FwELUuHNzG \nJoin Zoom Meeting\nhttps://us02web.zoom.us/j/88203645838?pwd=RzNxM3B0d0ZnZDBVZFUwNHhBWVlSUT09 \nMeeting ID: 882 0364 5838\nPasscode: 9gfrG5 \n— \nOne tap mobile\n+13052241968\,\,88203645838#\,\,\,\,*978353# US\n+13126266799\,\,88203645838#\,\,\,\,*978353# US (Chicago) \n— \nDial by your location\n• +1 305 224 1968 US\n• +1 312 626 6799 US (Chicago)\n• +1 646 558 8656 US (New York)\n• +1 646 931 3860 US\n• +1 301 715 8592 US (Washington DC)\n• +1 309 205 3325 US\n• +1 253 205 0468 US\n• +1 253 215 8782 US (Tacoma)\n• +1 346 248 7799 US (Houston)\n• +1 360 209 5623 US\n• +1 386 347 5053 US\n• +1 507 473 4847 US\n• +1 564 217 2000 US\n• +1 669 444 9171 US\n• +1 669 900 9128 US (San Jose)\n• +1 689 278 1000 US\n• +1 719 359 4580 US \nMeeting ID: 882 0364 5838\nPasscode: 978353
URL:https://palmettoarc.org/event/parc-club-meeting-april/
LOCATION:ZOOM\, United States
CATEGORIES:Meeting
ATTACH;FMTTYPE=image/jpeg:https://palmettoarc.org/wp-content/uploads/2023/05/AdobeStock_182830463-scaled.jpeg
ORGANIZER;CN="Palmetto Amateur Radio Club":MAILTO:info@palmettoarc.org
END:VEVENT
BEGIN:VEVENT
DTSTART;TZID=America/New_York:20260425T080000
DTEND;TZID=America/New_York:20260426T170000
DTSTAMP:20260422T115751
CREATED:20260326T005839Z
LAST-MODIFIED:20260326T005918Z
UID:3343-1777104000-1777222800@palmettoarc.org
SUMMARY:Florida QSO Party  Sponsored by the Florida Contest Group
DESCRIPTION:The Florida QSO Party is sponsored by the Florida Contest Group. Since it’s re-introduction to the contest scene in 1998\, the Florida QSO Party has become one of the fastest-growing and most popular State QSO Parties around today. This is due\, in part\, to the tremendous effort by the mobile teams to activate as many counties as they can in order to allow those participating from out-of-state to achieve a county “Sweep” (working all 67 Florida Counties). Florida stations operating from home are also valuable\, since that increases the chances that stations will work all counties! Regardless if you are a serious or casual participant from Florida or from outside of Florida\, the Florida QSO Party was designed to be a FUN operating event. Why not give it a try? \nNote: The 2025 Florida QSO Party log submission deadline has passed. Thanks to everyone who participated. \nThe FQP was terrific in 2025\, with many citing personal bests\, storms and love bugs staying away\, and terrific activity! The PIRATES 1×1 theme was quite popular with two stations per letter and 665 sweeps (before log checking adds a few net as busted calls outweigh NILs). 10 & 15 meters were open most hours\, yet 20 meters still provided the lion’s share of the contacts. Logs were received from YB and VU\, among many others. Thanks to everyone’s contribution! \nDan\, K1TO FQP Director
URL:https://palmettoarc.org/event/florida-qso-party-sponsored-by-the-florida-contest-group/
LOCATION:FL
CATEGORIES:Social Event
ATTACH;FMTTYPE=image/jpeg:https://palmettoarc.org/wp-content/uploads/2026/03/FQP2026-300x97-1-e1774486531395.jpg
ORGANIZER;CN="The Florida Contest Group":MAILTO:https://floridacontestgroup.org/fcg-email-contact-form/
END:VEVENT
BEGIN:VEVENT
DTSTART;TZID=America/New_York:20260426T110000
DTEND;TZID=America/New_York:20260426T150000
DTSTAMP:20260422T115751
CREATED:20260412T003535Z
LAST-MODIFIED:20260412T003535Z
UID:3499-1777201200-1777215600@palmettoarc.org
SUMMARY:The Pete Rimmel 5th Annual Picnic
DESCRIPTION:https://dcarc.club/picnic/index.php
URL:https://palmettoarc.org/event/the-pete-rimmel-5th-annual-picnic/
LOCATION:Tree Tops Park\, 3900 SW 100th Ave\, Davie\, FL\, 33328-1705\, United States
CATEGORIES:Social Event
ATTACH;FMTTYPE=image/jpeg:https://palmettoarc.org/wp-content/uploads/2026/04/image002-e1775953569755.jpg
END:VEVENT
END:VCALENDAR